BEGIN:VCALENDAR
VERSION:2.0
PRODID:-//Summer Brook of Melbourne Homeowners Association - ECPv6.15.20//NONSGML v1.0//EN
CALSCALE:GREGORIAN
METHOD:PUBLISH
X-WR-CALNAME:Summer Brook of Melbourne Homeowners Association
X-ORIGINAL-URL:https://summerbrook.info
X-WR-CALDESC:Events for Summer Brook of Melbourne Homeowners Association
REFRESH-INTERVAL;VALUE=DURATION:PT1H
X-Robots-Tag:noindex
X-PUBLISHED-TTL:PT1H
BEGIN:VTIMEZONE
TZID:America/New_York
BEGIN:DAYLIGHT
TZOFFSETFROM:-0500
TZOFFSETTO:-0400
TZNAME:EDT
DTSTART:20240310T070000
END:DAYLIGHT
BEGIN:STANDARD
TZOFFSETFROM:-0400
TZOFFSETTO:-0500
TZNAME:EST
DTSTART:20241103T060000
END:STANDARD
BEGIN:DAYLIGHT
TZOFFSETFROM:-0500
TZOFFSETTO:-0400
TZNAME:EDT
DTSTART:20250309T070000
END:DAYLIGHT
BEGIN:STANDARD
TZOFFSETFROM:-0400
TZOFFSETTO:-0500
TZNAME:EST
DTSTART:20251102T060000
END:STANDARD
BEGIN:DAYLIGHT
TZOFFSETFROM:-0500
TZOFFSETTO:-0400
TZNAME:EDT
DTSTART:20260308T070000
END:DAYLIGHT
BEGIN:STANDARD
TZOFFSETFROM:-0400
TZOFFSETTO:-0500
TZNAME:EST
DTSTART:20261101T060000
END:STANDARD
END:VTIMEZONE
BEGIN:VEVENT
DTSTART;TZID=America/New_York:20251110T190000
DTEND;TZID=America/New_York:20251110T200000
DTSTAMP:20260421T003928
CREATED:20250715T201737Z
LAST-MODIFIED:20251117T213257Z
UID:10000007-1762801200-1762804800@summerbrook.info
SUMMARY:Board Meeting- 11/10/25
DESCRIPTION:More Information Coming Soon
URL:https://summerbrook.info/event/board-meeting-11-10-25/
LOCATION:Brevard Alzheimer’s Center\, 4676 N. Wickham Road\, Melbourne\, FL\, 32955\, United States
CATEGORIES:Meeting
ATTACH;FMTTYPE=image/jpeg:https://summerbrook.info/wp-content/uploads/2025/11/Board_Meeting_feat.jpg
END:VEVENT
BEGIN:VEVENT
DTSTART;TZID=America/New_York:20251120T190000
DTEND;TZID=America/New_York:20251120T200000
DTSTAMP:20260421T003928
CREATED:20251117T195006Z
LAST-MODIFIED:20251124T201747Z
UID:10000018-1763665200-1763668800@summerbrook.info
SUMMARY:Special HOA Board Meeting 11/20/25
DESCRIPTION:Special HOA Board MeetingThursday\, November 20th7:00 PMAt Joe’s Club
URL:https://summerbrook.info/event/special-hoa-board-meeting-11-20-25/
LOCATION:Joe’s Club\, 4676 N Wickham Rd\, Melbourne\, FL\, 32935\, United States
CATEGORIES:Meeting
ATTACH;FMTTYPE=image/jpeg:https://summerbrook.info/wp-content/uploads/2025/11/Board_Meeting_feat.jpg
END:VEVENT
END:VCALENDAR