BEGIN:VCALENDAR
VERSION:2.0
PRODID:-//Summer Brook of Melbourne Homeowners Association - ECPv6.15.20//NONSGML v1.0//EN
CALSCALE:GREGORIAN
METHOD:PUBLISH
X-ORIGINAL-URL:https://summerbrook.info
X-WR-CALDESC:Events for Summer Brook of Melbourne Homeowners Association
REFRESH-INTERVAL;VALUE=DURATION:PT1H
X-Robots-Tag:noindex
X-PUBLISHED-TTL:PT1H
BEGIN:VTIMEZONE
TZID:America/New_York
BEGIN:DAYLIGHT
TZOFFSETFROM:-0500
TZOFFSETTO:-0400
TZNAME:EDT
DTSTART:20250309T070000
END:DAYLIGHT
BEGIN:STANDARD
TZOFFSETFROM:-0400
TZOFFSETTO:-0500
TZNAME:EST
DTSTART:20251102T060000
END:STANDARD
BEGIN:DAYLIGHT
TZOFFSETFROM:-0500
TZOFFSETTO:-0400
TZNAME:EDT
DTSTART:20260308T070000
END:DAYLIGHT
BEGIN:STANDARD
TZOFFSETFROM:-0400
TZOFFSETTO:-0500
TZNAME:EST
DTSTART:20261101T060000
END:STANDARD
BEGIN:DAYLIGHT
TZOFFSETFROM:-0500
TZOFFSETTO:-0400
TZNAME:EDT
DTSTART:20270314T070000
END:DAYLIGHT
BEGIN:STANDARD
TZOFFSETFROM:-0400
TZOFFSETTO:-0500
TZNAME:EST
DTSTART:20271107T060000
END:STANDARD
END:VTIMEZONE
BEGIN:VEVENT
DTSTART;TZID=America/New_York:20260221T080000
DTEND;TZID=America/New_York:20260221T130000
DTSTAMP:20260420T210048
CREATED:20260202T195237Z
LAST-MODIFIED:20260202T195242Z
UID:10000020-1771660800-1771678800@summerbrook.info
SUMMARY:Summer Brook Community Garage Sale
DESCRIPTION:Join Us for the Community Garage Sale\n\n\n\nSaturday\, February 21st \n\n\n\nfrom 8:00AM – 1:00PM \n\n\n\n(or longer if needed)
URL:https://summerbrook.info/event/summer-brook-community-garage-sale/
CATEGORIES:Featured,Social Event
ATTACH;FMTTYPE=image/jpeg:https://summerbrook.info/wp-content/uploads/2026/02/garage_sale.jpg
END:VEVENT
END:VCALENDAR